BEGIN:VCALENDAR
VERSION:2.0
PRODID:-//hacksw/handcal//NONSGML v1.0//EN
CALSCALE:GREGORIAN
BEGIN:VEVENT
LOCATION:Augsburg Innovationspark GmbH &#8211\; Technologiezentrum Augsburg
SUMMARY:10. Fachkongress Composites Simulation
DTSTART:20240207T090000
DTEND:20240207T170000
DESCRIPTION:Um Ressourcen zu schonen\, gewinnt der Leichtbau zunehmend an Bedeutung. Faserverstärkte Kunststoffe bieten immer noch das höchste Leichtbaupotential und finden so zunehmend Ihren Weg in die Industrie und Anwendungen. Aber auch im Baubereich halten Fasern in Form von faserverstärktem Beton Einzug. Damit Leichtbauinnovationen schnell in bezahlbare\, sichere und umweltverträgliche Produkte umgesetzt werden können\, sind effiziente und zuverlässige Simulationsmethoden und -modelle notwendig\, die auch auf künstliche Intelligenz zurückgreifen. Die Fragestellungen reichen dabei von der Simulation des Bauteil- und Faserverhaltens bei unterschiedlichen Belastungsfällen über die Prozesssimulation bei der Verarbeitung der Fasern und Materialien bis hin zum Digitalen Zwilling von Prozess und Material.
Der Fachkongress Composite Simulation hat sich zum Treffpunkt von Experten aus Industrie und Wissenschaft entwickelt. Es werden neuste Erkenntnisse präsentiert und Praxisbeispiele gezeigt. D
URL;VALUE=URI:https://www.region-a3.com/?p=164063
DTSTAMP:20260420T035959
UID:69e5a4bf912a2
END:VEVENT
END:VCALENDAR