BEGIN:VCALENDAR
VERSION:2.0
PRODID:-//hacksw/handcal//NONSGML v1.0//EN
CALSCALE:GREGORIAN
BEGIN:VEVENT
LOCATION:Messe Augsburg
SUMMARY:AÂ³ Businessforum auf den ITA: Fachvortrag „Das Liegenschaftsamt â Immobilienservice der Stadt Augsburg\, vom historischen Wasserturm bis zur WohnbauflÃ¤che“
DTSTART:20230205T130000
DTEND:20230205T140000
DESCRIPTION:Erstmalig wird es auf den Immobilientagen Augsburg das A³ Businessforum geben. Die Regio Augsburg Wirtschaft GmbH bringt sich mit ihren fachlichen Kompetenzen aus dem Netzwerk des Aktivkreises Immobilien in dieses Forum ein. In mehreren Vorträgen dreht sich hier alles um aktuelle Themen aus der Immobilienbranche\, die den Unternehmen unter den Nägeln brennen: Bezahlbares Wohnen\, Bestandssanierung\, Steuerabschreibungen\, Nachhaltigkeit\, Fördermöglichkeiten\, Energie\, Sanierung\, Augsburg City\, Multifunktionale Innenstadt und Immobilienservices der Stadt Augsburg.
Das Liegenschaftsamt – Immobilienservice der Stadt Augsburg\, vom historischen Wasserturm bis zur Wohnbaufläche
Ralf Schmidtmann\, Leiter Liegenschaftsamt\, Stadt Augsburg\, wird am Sonntag\, den 05. Februar 2023\, ab 13:00 Uhr über das Liegenschaftsamt – Immobilienservice der Stadt Augsburg – berichten. Wir freuen uns auf Ihr Kommen in Halle 5!

Erfahren Sie hier mehr zum A³ Businessforum sowie zum A³ Marktgespräch&#8230
URL;VALUE=URI:https://www.region-a3.com/?p=120575
DTSTAMP:20260419T150428
UID:69e4eefc63edb
END:VEVENT
END:VCALENDAR