BEGIN:VCALENDAR
VERSION:2.0
PRODID:-//hacksw/handcal//NONSGML v1.0//EN
CALSCALE:GREGORIAN
BEGIN:VEVENT
LOCATION:Sonntag &amp\; Partner Partnerschaftsgesellschaft mbB
SUMMARY:1. Aktivkreis Afterwork Event: Bauturbo und Textform bei GewerberaummietvertrÃ¤gen im RealitÃ¤tscheck
DTSTART:20260507T163000
DTEND:20260507T174500
DESCRIPTION:Mit dem 1. Aktivkreis Afterwork Event startet in diesem Jahr ein neues Veranstaltungsformat\, das fachlichen Input mit persönlichem Austausch verbindet. Im Fokus des Auftakts steht der Bauturbo und die Frage\, welche Auswirkungen die aktuellen rechtlichen und politischen Entwicklungen tatsächlich auf die Baupraxis haben.
&nbsp\;

URL;VALUE=URI:https://www.region-a3.com/?p=260790
DTSTAMP:20260423T144618
UID:69ea30ba73476
END:VEVENT
END:VCALENDAR