BEGIN:VCALENDAR
VERSION:2.0
PRODID:-//hacksw/handcal//NONSGML v1.0//EN
CALSCALE:GREGORIAN
BEGIN:VEVENT
LOCATION:Xenful Logistikzentrum
SUMMARY:E-Commerce Connect Augsburg
DTSTART:20260521T090000
DTEND:20260521T170000
DESCRIPTION:Hol Dir das geballte E-Commerce-Know-how direkt aus der Nachbarschaft: Am 21. Mai 2026 laden Dich digitalXL und Xentral zum offenen Wissenstransfer im Rahmen der Veranstaltung „E-Commerce Connect Augsburg“ ein. Das Treffen findet bei Xenful\, dem hauseigenen Fulfillment-Dienstleister von digitalXL\, statt.
Dabei werden exklusive Einblicke in die Logistik gewährt und in verschiedenen Impulsvorträgen werden Dir wertvolle Strategien für Dein Business an die Hand gegeben. Nach einer gemeinsamen Networking-Runde beim Mittagessen wird der Nachmittag für den intensiven Face-to-Face Austausch an einzelnen Lösungs-Stationen genutzt.
Das „Forum der Lösungen“: Dein direkter Draht zu den Spezialisten
Im „Forum der Lösungen“ stehen der direkte Austausch und echte Tipps von Experten aus Augsburg für die Region im Mittelpunkt\, um gemeinsam die Herausforderungen im Online-Handel zu meistern.
An spezialisierten Themen-Stationen findest Du keine reinen Verkaufsgespräche\, sondern handf
URL;VALUE=URI:https://www.region-a3.com/?p=259908
DTSTAMP:20260421T032201
UID:69e6ed595746e
END:VEVENT
END:VCALENDAR