BEGIN:VCALENDAR
VERSION:2.0
PRODID:-//hacksw/handcal//NONSGML v1.0//EN
CALSCALE:GREGORIAN
BEGIN:VEVENT
LOCATION:Bayerisches Landesamt fÃ¼r Umwelt
SUMMARY:Exkursion Resilienznetzwerk AÃ‚Â³: BiodiversitÃƒÂ¤t im LfU und bei Deuter
DTSTART:20260521T100000
DTEND:20260521T120000
DESCRIPTION:Wie kÃ¶nnen Unternehmen MaÃŸnahmen in Sachen Artenvielfalt auf dem eigenen UnternehmensgelÃ¤nde umsetzen? Im Rahmen eines Rundgangs durch das AuÃŸengelÃ¤nde des Landesamts fÃ¼r Umwelt stellt der Artenschutzexperte Marcel Ruff die institutseigenen MaÃŸnahmen vor. Im Anschluss erlÃ¤utert die CSR Managerin Jennifer Bregenhorn\, wie Deuter mit externer UnterstÃ¼tzung einen BiodiversitÃ¤ts-Score erhoben hat und welche MaÃŸnahmen sich daraus ableiten lassen.
Zum Landesamt fÃ¼r Umwelt und der AuÃŸenanlage
Das Landesamt fÃ¼r Umwelt (LfU) ist die zentrale UmweltfachbehÃ¶rde in Bayern. Das LfU setzt sich dafÃ¼r ein\, die natÃ¼rlichen Lebensgrundlagen zu schÃ¼tzen und den nachhaltigen Umgang damit zu stÃ¤rken. Auch der Schutz der Menschen vor Natur- und Umweltgefahren gehÃ¶rt zu den Zielen.
Die AuÃŸenanlagen am Standort Augsburg des Bayerischen Landesamtes fÃ¼r Umwelt (LfU) bestehen in groÃŸen Teilen seit 1999 und wurden als Vorbild fÃ¼r die Gestaltung naturnaher AuÃŸenanlagen an Ã¶ffentlichen GebÃ
URL;VALUE=URI:https://www.region-a3.com/?p=260822
DTSTAMP:20260421T001029
UID:69e6c07564c91
END:VEVENT
END:VCALENDAR