BEGIN:VCALENDAR
VERSION:2.0
PRODID:-//hacksw/handcal//NONSGML v1.0//EN
CALSCALE:GREGORIAN
BEGIN:VEVENT
LOCATION:Handwerkskammer für Schwaben
SUMMARY:Fassade 25 – Motorik\, Sensorik und Aktorik: Die dynamische Fassade
DTSTART:20250220T083000
DTEND:20250220T170000
DESCRIPTION:


Motorik\, Sensorik und Aktorik: Die dynamische Fassade
Moderne Technologien eröffnen neue Ansätze\, Fassaden nicht nur als schützende Hülle\, sondern als lebendige\, adaptive Elemente zu begreifen. Intelligente Sensorsysteme und Aktoren ermöglichen es\, Fassaden in Echtzeit an die Umgebungsbedingungen anzupassen und so ein optimiertes Wohlfühlklima zu schaffen. „Smart Facades“ sind mit fortschrittlichen Monitoring-Technologien ausgestattet\, die nicht nur Daten über Temperatur oder Luftqualität erfassen\, sondern auch das Nutzerverhalten analysieren. Dadurch wird eine direkte Interaktion zwischen Gebäude und Nutzer möglich\, die das Gestaltungskonzept entscheidend beeinflusst. Diese Interaktion zwischen Sensorik und Motorik ermöglicht den erweiterten Einsatz von natürlichen Belüftungssystemen und damit die Reduktion der zentralen Anlagentechnik. Das Potenzial für nachhaltige Entwicklung und Ressourcenschonung im Bauwesen wird deutlich erhöht. Die Folgen einer reduzierten 
URL;VALUE=URI:https://www.region-a3.com/?p=221243
DTSTAMP:20260421T090503
UID:69e73dbfc64d3
END:VEVENT
END:VCALENDAR