BEGIN:VCALENDAR
VERSION:2.0
PRODID:-//hacksw/handcal//NONSGML v1.0//EN
CALSCALE:GREGORIAN
BEGIN:VEVENT
LOCATION:elobau GmbH
SUMMARY:Exkursion zu elobau â Nachhaltigkeit\, Resilienz & ZukunftsfÃ¤higkeit aus der Praxis
DTSTART:20260708T093000
DTEND:20260708T140000
DESCRIPTION:
elobau\, ein Nachhaltigkeitspionier aus dem Allgäu\, lädt Mitglieder des Resilienznetzwerks A³ sowie der Allgäu GmbH zu Betriebsbesichtigung mit Frühstück\, wertvollen Impulsen und Zeit für Erfahrungsaustausch ein. 
Was uns erwartet:

Einblicke in gelebte Nachhaltigkeit und zukunftsfähige Unternehmenspraxis
Kurze Impulse zu regionaler Resilienz und Unternehmensführung in Zeiten multipler Krisen
Ein Rundgang durch das Produktionsgebäude von elobau (Holzständerbauweise)
Zeit für Austausch und Vernetzung mit Unternehmen aus der Region


Der Fokus liegt klar auf dem konkreten Mehrwert für Unternehmen: praxisnah\, umsetzbar und ohne Hochglanzfolien.
Das Event ist eine Kooperationsveranstaltung des Resilienznetzwerks A³ mit der Allgäu GmbH und elobau.

Die Anmeldung erfolgt über unsere Community-Plattform: https://community.region-a3.com/events/default/betriebsbesichtigung-bei-elobau-nachhaltigkeit-resilienz-zukunftsfahigkeit-aus-der-praxis/WZ2MDWgxXj




Zum Projekt



Diese Ve
URL;VALUE=URI:https://www.region-a3.com/?p=260517
DTSTAMP:20260421T064956
UID:69e71e14bf012
END:VEVENT
END:VCALENDAR