BEGIN:VCALENDAR
VERSION:2.0
PRODID:-//hacksw/handcal//NONSGML v1.0//EN
CALSCALE:GREGORIAN
BEGIN:VEVENT
LOCATION:Online
SUMMARY:Gesund und resilient bleiben in herausfordernden (digitalen) Zeiten
DTSTART:20251030T110000
DTEND:20251030T123000
DESCRIPTION:Gesund und resilient bleiben in herausfordernden (digitalen) Zeiten – kostenloser Online-Workshop\, mit Anmeldung
Unser Leben wird schnelllebiger\, Themen komplexer\, Krisen und Veränderungen häufiger und die digitale Entwicklung immer rasanter – empfinden Sie das auch so? Dann ist es wichtig\, die eigene Widerstandsfähigkeit zu verbessern und einen gesunden Umgang mit den Herausforderungen des (beruflichen) Alltags sowie der digitalen Entwicklung zu lernen. Lernen Sie all das am Donnerstag\, 30. Oktober 2025\, in einem Online-Workshop der Landeszentrale für Gesundheit e.V. kennen.
Referentinnen: u.a. die Landeszentrale für Gesundheit e.V.
Datum: 30.10.2025
Art der Veranstaltung: online
Uhrzeit: 11:00-12:30 Uhr
Kosten: keine
Anmeldung und Link unter:

https://eveeno.com/resilient

&nbsp\;

URL;VALUE=URI:https://www.region-a3.com/?p=244304
DTSTAMP:20260424T211112
UID:69ebdc7010728
END:VEVENT
END:VCALENDAR