BEGIN:VCALENDAR
VERSION:2.0
PRODID:-//hacksw/handcal//NONSGML v1.0//EN
CALSCALE:GREGORIAN
BEGIN:VEVENT
LOCATION:Digitales Zentrum Schwaben (DZ.S) IT-Gründerzentrum GmbH
SUMMARY:Digitales Zentrum Schwaben
DTSTART:20261118T150000
DTEND:20261118T220000
DESCRIPTION:Gründungsgeist\, Sichtbarkeit\, Vernetzung und Wissenstransfer stehen im Mittelpunkt von „Augsburg gründet!“. Die Veranstaltung zielt darauf ab\, Unternehmertum in der Region sichtbar zu machen\, neue Impulse zu setzen und die Vernetzung innerhalb des regionalen Gründungsökosystems zu fördern.
Gemeinsam mit Vertreter:innen aus Wirtschaft\, Wissenschaft\, Politik und Hochschulen bietet „Augsburg gründet!“ am 18. November 2026 Austauschformate\, Mentoringangebote und Informationsmöglichkeiten für angehende Gründer:innen. Ziel ist es\, das Bewusstsein für Entrepreneurship zu stärken und die Innovationsfähigkeit des Wirtschaftsraums Augsburg langfristig zu unterstützen.
Zielgruppe
Die Veranstaltung richtet sich an Gründungsinteressierte\, Start-ups\, Gründer:innen\, Ideensuchende\, Jungunternehmer:innen sowie etablierte Unternehmer:innen. Angesprochen sind zudem alle\, die sich für die Gründungsszene und unternehmerische Entwicklungen in der Wirtschaftsregion Augsburg interessi
URL;VALUE=URI:https://www.region-a3.com/?p=252864
DTSTAMP:20260421T091324
UID:69e73fb460c93
END:VEVENT
END:VCALENDAR