BEGIN:VCALENDAR
VERSION:2.0
PRODID:-//hacksw/handcal//NONSGML v1.0//EN
CALSCALE:GREGORIAN
BEGIN:VEVENT
LOCATION:
SUMMARY:International Business Dialogue Augsburg
DTSTART:20250925T173000
DTEND:20250925T210000
DESCRIPTION:Wirtschaft verbindet – international und regional
Am 25. September 2025 können Sie einen Abend voller neuer Impulse und Perspektiven erleben. Die Wirtschaftsjunioren Augsburg und Audi Augsburg laden Vertreter aus der internationalen Diplomatie und regionalen Wirtschaft zu einem direkten Austausch ein. Der International Business Dialogue bringt Generalkonsuls\, Botschafter und Landesvertreter aus Bayerns wichtigsten Wirtschaftspartnerländern zusammen – der perfekte Rahmen für persönliche Begegnungen und einen anregenden Dialog.
Darauf können Sie sich freuen:

Hochkarätige internationale Gäste
Exklusive Einblicke in die Wirtschaftspartnerschaften von morgen
Offener Austausch &#8211\; interaktiv und praxisnah
Moderierte Diskussionen mit Q &amp\; A
Werkstattführung bei Audi Schwaba
Persönliches Networking auf Augenhöhe

&nbsp\;
Sie haben Interesse und wollen am 25. September dabei sein? Dann geht es hier zur Anmeldung.

URL;VALUE=URI:https://www.region-a3.com/?p=239338
DTSTAMP:20260424T211107
UID:69ebdc6b168f2
END:VEVENT
END:VCALENDAR