BEGIN:VCALENDAR
VERSION:2.0
PRODID:-//hacksw/handcal//NONSGML v1.0//EN
CALSCALE:GREGORIAN
BEGIN:VEVENT
LOCATION:Online
SUMMARY:KI als Treiber automatisierter Finanzprozesse â Strukturierter Daten nutzen
DTSTART:20251008T090000
DTEND:20251008T101500
DESCRIPTION:Der Einsatz von Künstlicher Intelligenz (KI) eröffnet Unternehmen neue Möglichkeiten – gerade in Verbindung mit der elektronischen Rechnung (E-Rechnung).
Erfahren Sie im Webinar des Mittelstand-Digital Zentrums Augsburg\, wie KI und E-Rechnung gemeinsam die Automatisierung von Rechnungsprozessen fördern. Zudem wird aufgezeigt\, welchen Mehrwert strukturierte Daten für Unternehmen haben und wie betrieblichen Finanzprozessen vorangetrieben werden können.
Dr. Stephan Weber von ibi research präsentiert\, welche Faktoren über den erfolgreichen Einsatz von KI in den Rechnungsprozessen entscheiden und vermittelt Ihnen\, wie die E-Rechnung dazu beiträgt\, eine verlässliche Datenbasis zu schaffen. Darauf aufbauend wird aufgezeigt\, welchen Mehrwert strukturierte Daten für Unternehmen haben und wie damit – gemeinsam mit KI – die Automatisierung von betrieblichen Finanzprozessen vorangetrieben werden kann.
Inhalte des Webinars:

KI und E-Rechnung: Erfolgskriterien und Einsatzpotenziale
URL;VALUE=URI:https://www.region-a3.com/?p=241864
DTSTAMP:20260422T085913
UID:69e88de1189cd
END:VEVENT
END:VCALENDAR