BEGIN:VCALENDAR
VERSION:2.0
PRODID:-//hacksw/handcal//NONSGML v1.0//EN
CALSCALE:GREGORIAN
BEGIN:VEVENT
LOCATION:Akademie der Handwerkskammer für Schwaben (Raum 2.01)
SUMMARY:KI im Handwerk â Praxisnah. Regional. VerstÃ¤ndlich.
DTSTART:20260428T160000
DTEND:20260428T183000
DESCRIPTION:







KI im Handwerk: Praxisorientierte Anwendungen im Betriebsalltag
Die Digitalisierung betrifft auch Handwerksbetriebe. Dabei stellt sich häufig die Frage\, welchen konkreten Nutzen Künstliche Intelligenz (KI) im täglichen Betriebsablauf bieten kann.
In Kooperation mit der Handwerkskammer für Schwaben und dem Fraunhofer IGCV werden praxisnahe Ansätze für den Einsatz von KI im Handwerk vorgestellt. Der Schwerpunkt liegt auf konkreten und umsetzbaren Anwendungsfällen im betrieblichen Alltag. Ziel ist es\, Potenziale mit überschaubarem Aufwand zu identifizieren\, die beispielsweise in der Arbeitsvorbereitung\, bei Dokumentationspflichten oder in der Verwaltung zu einer Entlastung beitragen können.
Inhalte der Veranstaltung
Überblick zu KI im Handwerk: Darstellung verständlicher und bereits anwendbarer KI-Technologien.
Interaktiver Workshop: In moderierten Gruppen werden typische betriebliche Abläufe analysiert und mögliche Einsatzfelder für KI erarbeitet.
Austausch in der R
URL;VALUE=URI:https://www.region-a3.com/?p=254024
DTSTAMP:20260421T124009
UID:69e7702942467
END:VEVENT
END:VCALENDAR