BEGIN:VCALENDAR
VERSION:2.0
PRODID:-//hacksw/handcal//NONSGML v1.0//EN
CALSCALE:GREGORIAN
BEGIN:VEVENT
LOCATION:Kreuzgratgewölbe des Kreisgutes Aichach
SUMMARY:KI in der Produktion – Praxisnah. Regional. VerstÃ¤ndlich.
DTSTART:20260512T130000
DTEND:20260512T180000
DESCRIPTION:

Künstliche Intelligenz ist in der industriellen Produktion längst mehr als ein Zukunftsthema. Sie bietet bereits heute konkrete Mehrwerte – auch für kleine und mittlere Unternehmen. Doch wo lässt sich KI sinnvoll einsetzen\, und wie gelingt ein pragmatischer Einstieg?





Der Workshop „KI in der Produktion – Praxisnah. Regional. Verständlich.“ richtet sich an produzierende Unternehmen\, die sich fundiert und ohne technologische Überfrachtung mit dem Thema Künstliche Intelligenz auseinandersetzen möchten. Anhand realer Anwendungsbeispiele aus der Praxis wird gezeigt\, wie KI in Bereichen wie optischer Qualitätssicherung\, Predictive Maintenance oder Wissensmanagement bereits erfolgreich eingesetzt wird.
Gemeinsam mit Fraunhofer IGCV und der XITASO GmbH wird KI aus der Theorie in den betrieblichen Alltag gebracht. Die Veranstaltung findet im Kreuzgratgewölbe im Kreisgut in Aichach statt und setzt bewusst auf einen verständlichen\, niedrigschwelligen und anwendungsorienti
URL;VALUE=URI:https://www.region-a3.com/?p=260510
DTSTAMP:20260423T202048
UID:69ea7f20a1a3f
END:VEVENT
END:VCALENDAR