BEGIN:VCALENDAR
VERSION:2.0
PRODID:-//hacksw/handcal//NONSGML v1.0//EN
CALSCALE:GREGORIAN
BEGIN:VEVENT
LOCATION:Online
SUMMARY:Klimarisiken sind GeschÃ¤ftsrisiken: Wie ein Klimatransformationsplan Resilienz und die FinanzierungsfÃ¤higkeit stÃ¤rkt
DTSTART:20260313T100000
DTEND:20260313T110000
DESCRIPTION:Warum Klimarisikomanagement zur Chefsache wird und wie ein Klimatransformationsplan zur wirtschaftlichen Stabilität beiträgt.
Klimarisiken wirken sich direkt auf Geschäftsmodelle\, Lieferketten und Finanzierungsbedingungen aus. Ein Klimatransformationsplan hilft\, diese Risiken systematisch zu identifizieren\, zu bewerten und wirksam zu steuern und stärkt so die langfristige Resilienz des Unternehmens.
In dieser Online-Veranstaltung zeigen wir\, wie Unternehmen Klimarisiken frühzeitig erkennen\, bewerten und in konkrete Maßnahmen überführen können. Im einstündigen Impuls erfahren Sie

Warum Klimatransformationspläne Resilienz &amp\; Finanzierung beeinflussen
Welche Logik Banken anwenden (Governance – Risiko – Zielpfad)
Was beinhaltet ein guter Klimatransformationsplan
VSME als praktikabler Orientierungsrahmen für KMUs
Was Unternehmen konkret vorbereiten sollten

Zu den Referenten Veronika &amp\; Anna Hämmerle:
Anna ist Biologin mit Schwerpunkt Klima und begleitet als erfahren
URL;VALUE=URI:https://www.region-a3.com/?p=253030
DTSTAMP:20260422T084915
UID:69e88b8b99ac0
END:VEVENT
END:VCALENDAR