BEGIN:VCALENDAR
VERSION:2.0
PRODID:-//hacksw/handcal//NONSGML v1.0//EN
CALSCALE:GREGORIAN
BEGIN:VEVENT
LOCATION:
SUMMARY:Kommunikation fÃ¼r die 2030er Jahre – Ziele der Nachhaltigkeit auf dem Weg zu 6G
DTSTART:20211011T190000
DTEND:20211011T203000
DESCRIPTION:Vor dem Hintergrund des globalen Klimawandels haben sich Ziele der Nachhaltigkeit zu einer Priorität von Gesellschaft und Wirtschaft entwickelt. Der Informations- und Kommunikations-Sektor kann in besonderer Weise zu Zielen der wirtschaftlichen\, gesellschaftlichen und umweltbezogenen Nachhaltigkeit beitragen\, da insbesondere die Netztechnologien als Querschnittstechnologien über alle Industriesektoren hinweg Wirkung entfalten können.
In diesem Vortrag wird die Herangehensweise des führenden Netzausrüsters Nokia zur Erreichung von Nachhaltigkeitszielen vorgestellt unter besonderer Berücksichtigung von Aspekten der Energieeffizienz\, Kreislaufwirtschaft und nachhaltiger Lieferketten. Mit dem Ausbau der 5G Netze und ihrer weiteren Evolution befinden sich Ziele der Nachhaltigkeit und der erhöhten Energieeffizienz erfolgreich in der Umsetzung\; Schlüsselfaktoren und Treiber zur Verbesserung von Radio-Zugangsnetzen finden sich in Optimierung von zugehörigen HW und SW Bausteinen und de
URL;VALUE=URI:https://www.region-a3.com/?p=64956
DTSTAMP:20260424T211230
UID:69ebdcbebd51a
END:VEVENT
END:VCALENDAR