BEGIN:VCALENDAR
VERSION:2.0
PRODID:-//hacksw/handcal//NONSGML v1.0//EN
CALSCALE:GREGORIAN
BEGIN:VEVENT
LOCATION:Online
SUMMARY:Praxisworkshop: Kultur(en) im Betrieb
DTSTART:20250626T090000
DTEND:20250626T120000
DESCRIPTION:Kultur\, und vor allem die Schwierigkeiten die beim aufeinandertreffen unterschiedlicher Kulturen entstehen können\, wird meistens als lästig und anstrengend empfunden. Bestenfalls als etwas\, dessen man sich bewusst ist\, und das man – wohl oder übel – auch in der Ausbildung beachten muss. In unserem Q 4.0 Work erfahren Sie\, wie Sie kulturelle Vielfalt und Unterschiede vom Stress- zum Successfaktor machen.
Diese Veranstaltung richtet sich an Ausbilder:innen\, Ausbildungsleiter:innen\, Personaler:innen\, Geschäftsführer:innen und/oder alle anderen Personen mit Ausbildungsbezug.
Das bietet Ihnen der Workshop:

Einführung in das Thema Kultur(en) im Unternehmen
Hintergründe und Verständnis über die Wirkung von Kultur (im Betrieb)
Wie erkenne ich welchen Grund ein Verhalten haben kann? Eine gute Analyse ist die halbe Problemlösung.
Was ist überhaupt Kultur und warum haben nicht alle Menschen die selbe?
Was sind Dimensionen von Kultur\, wie kann ich sie erkennen und mir für meinen B
URL;VALUE=URI:https://www.region-a3.com/?p=236217
DTSTAMP:20260421T091244
UID:69e73f8ced528
END:VEVENT
END:VCALENDAR