BEGIN:VCALENDAR
VERSION:2.0
PRODID:-//hacksw/handcal//NONSGML v1.0//EN
CALSCALE:GREGORIAN
BEGIN:VEVENT
LOCATION:Augsburg Innovationspark GmbH &#8211\; Technologiezentrum Augsburg
SUMMARY:KV-Terminal GVZ Augsburg: Baustelle heute â Drehscheibe morgen
DTSTART:20260505T094500
DTEND:20260505T150000
DESCRIPTION:Einblicke in den künftigen Containerbahnhof am 05.05.2026
Der Kombinierte Verkehr gewinnt für eine leistungsfähige\, nachhaltige und zukunftsorientierte Logistik immer stärker an Bedeutung. Mit dem geplanten KV-Terminal Augsburg-Gersthofen entsteht ein zentraler Baustein für die Weiterentwicklung der regionalen und überregionalen Güterverkehre. Das GVZ Region Augsburg lädt Sie in Zusammenarbeit mit dem Logistik-Kompetenz-Zentrum Prien (LKZ Prien GmbH) gerne zu einer erstmalig stattfindenden Informationsveranstaltung am Dienstag\, den 05. Mai 2026 nach Augsburg ein. Gemeinsam mit Vertreterinnen und Vertretern aus Wirtschaft\, Transportdienstleistung und Bahn möchten wir Ihnen einen Einblick in den aktuellen Projektstand geben\, die Bedeutung des KV-Terminals für die Region aufzeigen und mit Ihnen zentrale operative und betriebliche Themen im Zuge der Realisierung des KV-Terminals diskutieren.
Mehr Informationen und Anmeldemöglichkeit auf der Webseite des GVZ-Augsburg! 
&nbsp\;
&n
URL;VALUE=URI:https://www.region-a3.com/?p=261359
DTSTAMP:20260423T145230
UID:69ea322e0a767
END:VEVENT
END:VCALENDAR