BEGIN:VCALENDAR
VERSION:2.0
PRODID:-//hacksw/handcal//NONSGML v1.0//EN
CALSCALE:GREGORIAN
BEGIN:VEVENT
LOCATION:Fraunhofer IGCV
SUMMARY:Lernfabrik â  das Lernspiel „von papiergebundener zu digitalisierter Produktion“
DTSTART:20260630T133000
DTEND:20260630T170000
DESCRIPTION:In der Lernfabrik des Mittelstand-Digital Zentrums Augsburg für vernetzte Produktion (LVP) wird die Digitalisierung in der Montage kundenindividueller Produkte erlebbar gemacht. Als Teilnehmer:in montieren Sie ferngesteuerte Autos in drei Runden mit aufsteigendem Digitalisierungsgrad und vergleichen\, wie sich die Digitalisierung auf verschiedene Arbeitsbereiche und wirtschaftliche Zielgrößen auswirkt.​
In einer Kombination aus kurzen Wissenseinheiten\, Hands-on und Reflexionsrunden erleben Sie Technologien wie RFID\, digitale Arbeitsanweisungen oder Produktionsplanungsservices. Generieren Sie außerdem Ideen der Anwendung für Ihr Unternehmen!
Inhalte:

Potenziale einer digitalisierten Produktion: vom Auftragszettel über die elektronische Betriebsdatenerfassung zur automatischen Auftragserkennung mit Montageanweisungen auf dem Tablet​
Überblick über digitale Technologien für die Produktion und Montage (z. B. NFC\, Assistenzsysteme\, digitale Preisschilder)

Vorteile für die Tei
URL;VALUE=URI:https://www.region-a3.com/?p=260508
DTSTAMP:20260421T210955
UID:69e7e7a3cb716
END:VEVENT
END:VCALENDAR