BEGIN:VCALENDAR
VERSION:2.0
PRODID:-//hacksw/handcal//NONSGML v1.0//EN
CALSCALE:GREGORIAN
BEGIN:VEVENT
LOCATION:Technische Hochschschule Augsburg | Campus am Roten Tor
SUMMARY:Make.IT.Regional
DTSTART:20250507T160000
DTEND:20250507T180000
DESCRIPTION:Bei Make.IT.Regional stellen sich regionale IT-Unternehmen aus dem Wirtschaftsraum Augsburg Studierenden der Augsburger Hochschulen vor. In kurzweiligen Tech-Talks stellen die Firmen ihren Arbeits- und Projektschwerpunkte vor. Im Anschluss ist bei Pizza und Getränken genügend Zeit für Fragen\, zum Kennenlernen und Networking. Das Event findet einmal im Semester an der Technischen Hochschule oder Universität Augsburg statt.

Für weitere Informationen und zur Anmeldung hier klicken.


URL;VALUE=URI:https://www.region-a3.com/?p=228353
DTSTAMP:20260421T085320
UID:69e73b0038059
END:VEVENT
END:VCALENDAR