BEGIN:VCALENDAR
VERSION:2.0
PRODID:-//hacksw/handcal//NONSGML v1.0//EN
CALSCALE:GREGORIAN
BEGIN:VEVENT
LOCATION:Technische Universität München\, Institut für Werkzeugmaschinen und Betriebswissenschaften
SUMMARY:Nachhaltigkeit und Kreislaufwirtschaft â Chancen fÃ¼r den Mittelstand
DTSTART:20221130T130000
DTEND:20221130T173000
DESCRIPTION:In nahezu allen Bereichen sehen sich Unternehmen mit veränderten Kundenwünschen\, schwankenden Märkten und einem steigenden Nachhaltigkeitsdruck konfrontiert. Auch unsere historisch geprägte Linearwirtschaft\, bei dem Produkte am Ende ihrer Lebensdauer weggeworfen werden\, wandelt sich zunehmend in eine Kreislaufwirtschaft\, mit dem Ziel\, Abfall zu vermeiden und möglichst viele Materialen wiederzuverwenden.
Diese Schulung vermittelt Ihnen daher neben den erforderlichen Grundlagen der Nachhaltigkeit und den wesentlichen Grundzügen der Kreislaufwirtschaft auch\, wie Sie Ihr Unternehmen auf diese Herausforderungen vorbereiten können und welche Rolle digitale Technologien dabei spielen.
Inhalte

Grundlagen und zentrale Konzepte der Nachhaltigkeit und der Kreislaufwirtschaft
Mögliche Implementierungsstrategien für das eigene Unternehmen
Chancen und Herausforderungen bei der Umsetzung
Überblick über ausgewählte digitale Technologien aus dem Produktions- und Logistikumfeld sowie deren 
URL;VALUE=URI:https://www.region-a3.com/?p=104783
DTSTAMP:20260422T180433
UID:69e90db1ed4ef
END:VEVENT
END:VCALENDAR