BEGIN:VCALENDAR
VERSION:2.0
PRODID:-//hacksw/handcal//NONSGML v1.0//EN
CALSCALE:GREGORIAN
BEGIN:VEVENT
LOCATION:Online
SUMMARY:Online-Impuls Resilienznetzwerk AÂ³ zum Thema „KlimaschutzmaÃnahmen finanzieren“
DTSTART:20260611T100000
DTEND:20260611T110000
DESCRIPTION:In diesem einstündigen Impuls-Vortrag lernen Sie Möglichkeiten kennen\, Klimaschutzmaßnahmen zu finanzieren. 
Zur Anmeldung

Die Anmeldung erfolgt über unsere Community-Plattform: Online-Impuls Resilienznetzwerk A³ zum Thema &#8222\;Klimaschutzmaßnahmen finanzieren&#8220\;
Bei Fragen oder Problemen mit der Anmeldung über unsere Community-Plattform\, melden Sie sich gerne bei unserer Kollegin Tamara Weber (tamara.weber@region-A3.com | +49 821 4 50 10-213).

Zum Projekt
Im Rahmen des Resilienzetzwerks A³ werden unterschiedliche Formate angeboten\, unter anderem einstündige Impuls-Workshops. Im ersten Halbjahr 2026 widmen wir uns der ökologischen Resilienz
Alle Informationen zu unserem Resilienznetzwerk und wie sie davon profitieren können finden Sie hier!

Werden Sie auch auf unserer Community-Plattform teil unseres Resilienznetzwerks A³: Jetzt kostenlos Mitglied werden und keine Infos zu Gemeinwohl\, Engagement\, Resilienz und Nachhaltigkeit verpassen! 

Die Veranstaltung findet 
URL;VALUE=URI:https://www.region-a3.com/?p=261332
DTSTAMP:20260423T200854
UID:69ea7c5684c1e
END:VEVENT
END:VCALENDAR