BEGIN:VCALENDAR
VERSION:2.0
PRODID:-//hacksw/handcal//NONSGML v1.0//EN
CALSCALE:GREGORIAN
BEGIN:VEVENT
LOCATION:Online
SUMMARY:Online-Impuls Resilienznetzwerk AÂ³ zum Thema BiodiversitÃ¤t
DTSTART:20260625T100000
DTEND:20260625T110000
DESCRIPTION:Im Rahmen des Resilienzetzwerks A³ werden unterschiedliche Formate angeboten\, unter anderem einstündige Impuls-Workshops. Im ersten Halbjahr 2026 widmen wir uns der ökonomischen Resilienz und bei diesem Online-Impuls dem Thema Biodiversität. Infos folgen.
Zur Anmeldung

Die Anmeldung erfolgt über unsere Community-Plattform:Online-Impuls Resilienznetzwerk A³ zum Thema Biodiversität 
Bei Fragen oder Problemen mit der Anmeldung über unsere Community-Plattform\, melden Sie sich gerne bei unserer Kollegin Tamara Weber (tamara.weber@region-A3.com | +49 821 4 50 10-213).

Zum Projekt
Im Rahmen des Resilienzetzwerks A³ werden unterschiedliche Formate angeboten\, unter anderem einstündige Impuls-Workshops. Im ersten Halbjahr 2026 widmen wir uns der ökologischen Resilienz
Alle Informationen zu unserem Resilienznetzwerk und wie sie davon profitieren können finden Sie hier!

Werden Sie auch auf unserer Community-Plattform teil unseres Resilienznetzwerks A³: Jetzt kostenlos Mitglied wer
URL;VALUE=URI:https://www.region-a3.com/?p=261341
DTSTAMP:20260423T195828
UID:69ea79e433941
END:VEVENT
END:VCALENDAR