BEGIN:VCALENDAR
VERSION:2.0
PRODID:-//hacksw/handcal//NONSGML v1.0//EN
CALSCALE:GREGORIAN
BEGIN:VEVENT
LOCATION:Online
SUMMARY:Online-Impuls Resilienznetzwerk AÂ³ zum Thema „Mitarbeitende auf dem Weg zur KI-gestÃ¼tzten Resilienz begleiten“
DTSTART:20260723T103000
DTEND:20260723T120000
DESCRIPTION:Wie Unternehmen und Mitarbeitende durch KI-Kompetenz\, neue Formen der Zusammenarbeit und wirksame Führung den Wandel aktiv gestalten
Künstliche Intelligenz verändert nicht nur Technologien und Prozesse\, sondern die Arbeitswelt selbst. Der Vortrag zeigt\, warum KI für Unternehmen zum Resilienzfaktor wird\, weshalb Beschäftigte durch KI-Kompetenz arbeitsmarktrelevant bleiben und welche Rolle Führung bei dieser Entwicklung übernimmt. Im Fokus stehen neue Formen der Zusammenarbeit\, der produktive Umgang mit KI im Arbeitsalltag und die Frage\, wie Unternehmen ihre Mitarbeitenden sicher\, wirksam und zukunftsorientiert durch diesen Wandel begleiten.
Zum Referenten: 
Frank Stadler ist Geschäftsführer der KIVOREX GmbH und Experte für die praxisnahe\, sichere und regulatorisch tragfähige Einführung von Künstlicher Intelligenz in Unternehmen. Mit über 20 Jahren Erfahrung in Software\, Daten\, KI und regulierten Umfeldern verbindet er technisches Tiefenverständnis mit Führungs-\, Governa
URL;VALUE=URI:https://www.region-a3.com/?p=258091
DTSTAMP:20260423T200854
UID:69ea7c56770f7
END:VEVENT
END:VCALENDAR